{
 "currentVersion": 10.6,
 "serviceDescription": "Imagery/Aerial2011ImageService",
 "name": "Imagery/Aerial2011ImageService",
 "description": "",
 "extent": {
  "xmin": 1.302750005500011E7,
  "ymin": 207500.24583382512,
  "xmax": 1.3189999859166384E7,
  "ymax": 339999.98999998,
  "spatialReference": {
   "wkid": 2898,
   "latestWkid": 2898
  }
 },
 "initialExtent": {
  "xmin": 1.302750005500011E7,
  "ymin": 207500.24583382512,
  "xmax": 1.3189999859166384E7,
  "ymax": 339999.98999998,
  "spatialReference": {
   "wkid": 2898,
   "latestWkid": 2898
  }
 },
 "fullExtent": {
  "xmin": 1.302750005500011E7,
  "ymin": 207500.24583382512,
  "xmax": 1.3189999859166384E7,
  "ymax": 339999.98999998,
  "spatialReference": {
   "wkid": 2898,
   "latestWkid": 2898
  }
 },
 "pixelSizeX": 0.5208343750020806,
 "pixelSizeY": 0.520834375002083,
 "bandCount": 3,
 "pixelType": "U8",
 "minPixelSize": 0,
 "maxPixelSize": 0,
 "copyrightText": "",
 "serviceDataType": "esriImageServiceDataTypeRGB",
 "minValues": [],
 "maxValues": [],
 "meanValues": [],
 "stdvValues": [],
 "objectIdField": "",
 "fields": [],
 "capabilities": "Image,Metadata,Mensuration",
 "defaultMosaicMethod": "Center",
 "allowedMosaicMethods": "",
 "sortField": "",
 "sortValue": null,
 "mosaicOperator": "First",
 "defaultCompressionQuality": 75,
 "defaultResamplingMethod": "Bilinear",
 "maxImageHeight": 4100,
 "maxImageWidth": 15000,
 "allowRasterFunction": true,
 "rasterFunctionInfos": [
  {
   "name": "None",
   "description": "",
   "help": ""
  }
 ],
 "rasterTypeInfos": [
  {
   "name": "Raster Dataset",
   "description": "Supports all ArcGIS Raster Datasets",
   "help": ""
  }
 ],
 "mensurationCapabilities": "Basic",
 "hasHistograms": false,
 "hasColormap": false,
 "hasRasterAttributeTable": false,
 "minScale": 0,
 "maxScale": 0,
 "exportTilesAllowed": false,
 "hasMultidimensions": false,
 "supportsStatistics": false,
 "supportsAdvancedQueries": false,
 "editFieldsInfo": null,
 "ownershipBasedAccessControlForRasters": null,
 "allowComputeTiePoints": false,
 "useStandardizedQueries": true,
 "advancedQueryCapabilities": {
  "useStandardizedQueries": true,
  "supportsStatistics": false,
  "supportsOrderBy": false,
  "supportsDistinct": false,
  "supportsPagination": false
 },
 "spatialReference": {
  "wkid": 2898,
  "latestWkid": 2898
 }
}
