View In:
  ArcGIS JavaScript
  ArcGIS Online Map Viewer
  ArcGIS Earth
  ArcMap
  ArcGIS Explorer
View Footprint In:
  ArcGIS Online Map Viewer
Service Description:  
Map Name:  Layers 
Legend
All Layers and Tables
Layers: 
Description:  
Copyright Text:   
Spatial Reference: 
102100
 (3857)
Single Fused Map Cache:  true
Tile Info: 
- Height: 256
- Width: 256
- DPI: 96
- 
Levels of Detail:  20
- 
Level ID: 0
[ Start Tile, End Tile ]
- Resolution: 156543.03392800014
- Scale: 5.91657527591555E8
- 
Level ID: 1
[ Start Tile, End Tile ]
- Resolution: 78271.51696399994
- Scale: 2.95828763795777E8
- 
Level ID: 2
[ Start Tile, End Tile ]
- Resolution: 39135.75848200009
- Scale: 1.47914381897889E8
- 
Level ID: 3
[ Start Tile, End Tile ]
- Resolution: 19567.87924099992
- Scale: 7.3957190948944E7
- 
Level ID: 4
[ Start Tile, End Tile ]
- Resolution: 9783.93962049996
- Scale: 3.6978595474472E7
- 
Level ID: 5
[ Start Tile, End Tile ]
- Resolution: 4891.96981024998
- Scale: 1.8489297737236E7
- Format: PNG
- Compression Quality: 0.0
- Origin: X:  -2.0037508342787E7 
 Y:  2.0037508342787E7
 
- Spatial Reference: 102100
 (3857)
 
Initial Extent:
XMin: -9445956.560849236
YMin: 5200105.99032116
XMax: -9349806.402185956
YMax: 5238677.938296509
Spatial Reference: 102100
 
Full Extent:
XMin: -9430888.136492135
YMin: 5170752.64265934
XMax: -9364925.662044501
YMax: 5225135.051866297
Spatial Reference: 102100
 
Units: esriMeters 
Supported Image Format Types:  PNG32,PNG24,PNG,JPG,DIB,TIFF,EMF,PS,PDF,GIF,SVG,SVGZ,BMP
Document Info: 
Title: Glacial Drainage Jackson County, MI
Author: 
Comments: 
Subject: 
Category: 
Keywords: 
AntialiasingMode: Normal
TextAntialiasingMode: Force
Supports Dynamic Layers: false
MaxRecordCount:  1000
MaxImageHeight:  4096
MaxImageWidth:  4096
Supported Query Formats:  JSON, AMF, geoJSON
Min Scale:  288895.277144
Max Scale:  9027.977411
Supports Datum Transformation:  true
Child Resources:
  
Info
 
Supported Operations:
  
Export Map
  Identify
  QueryDomains
  Find
  Return Updates