View In:
  ArcGIS JavaScript
  ArcGIS Online Map Viewer
  ArcGIS Earth
  ArcMap
View Footprint In:
  ArcGIS Online Map Viewer
Service Description:  NaturalFeatures/Hillshade 
Name:  NaturalFeatures/Hillshade 
Description:  
Single Fused Map Cache:  true
Tile Info: 
- Height: 256
- Width: 256
- DPI: 96
- 
Levels of Detail:  24
- 
Level ID: 0
[ Start Tile, End Tile ]
- Resolution: 156543.03392800014
- Scale: 5.91657527591555E8
- 
Level ID: 1
[ Start Tile, End Tile ]
- Resolution: 78271.51696399994
- Scale: 2.95828763795777E8
- 
Level ID: 2
[ Start Tile, End Tile ]
- Resolution: 39135.75848200009
- Scale: 1.47914381897889E8
- 
Level ID: 3
[ Start Tile, End Tile ]
- Resolution: 19567.87924099992
- Scale: 7.3957190948944E7
- 
Level ID: 4
[ Start Tile, End Tile ]
- Resolution: 9783.93962049996
- Scale: 3.6978595474472E7
- 
Level ID: 5
[ Start Tile, End Tile ]
- Resolution: 4891.96981024998
- Scale: 1.8489297737236E7
- Format: MIXED
- Compression Quality: 75.0
- LERC Error: NaN
- Origin: X:  -2.0037508342787E7 
 Y:  2.0037508342787E7
 
- Spatial Reference: 102100
 (3857)
 
Extent:
XMin: -9432480.797115285
YMin: 5169463.008944235
XMax: -9363593.404814798
YMax: 5226875.279320426
Spatial Reference: 102100
 (3857)
 
Initial Extent:
XMin: -9432480.797115285
YMin: 5169463.008944235
XMax: -9363593.404814798
YMax: 5226875.279320426
Spatial Reference: 102100
 (3857)
 
Full Extent:
XMin: -9432480.797115285
YMin: 5169463.008944235
XMax: -9363593.404814798
YMax: 5226875.279320426
Spatial Reference: 102100
 (3857)
 
Pixel Size X: 2.9998944227803777 
Pixel Size Y:  2.9999738593654466 
Band Count: 1
Pixel Type: U8
RasterFunction Infos:  {"name":"None","description":"","help":""} 
Mensuration Capabilities: Basic
Has Histograms:  true
Has Colormap:  false
Has Multi Dimensions :  false
Rendering Rule: 
Min Scale:  1155581.108577
Max Scale:  2256.994353
Copyright Text:  
Service Data Type:  esriImageServiceDataTypeGeneric 
Min Values:  0 
Max Values:  254 
Mean Values:  175.99652008339257 
Standard Deviation Values:  27.89680445563277 
Object ID Field:  
Fields: 
None
Default Mosaic Method:  Center 
Allowed Mosaic Methods:  
SortField:  
SortValue:  null 
Mosaic Operator:  First 
Default Compression Quality:  75 
Default Resampling Method:  Bilinear 
Max Record Count:  null 
Max Image Height:  4100 
Max Image Width:  15000 
Max Download Image Count:  null 
Max Mosaic Image Count:  null 
Allow Raster Function:  true 
Allow Compute TiePoints:  false 
Supports Statistics:  false 
Supports Advanced Queries:  false 
Use StandardizedQueries:  true 
Raster Type Infos: 
Name: Raster Dataset
Description: Supports all ArcGIS Raster Datasets
Help: 
Has Raster Attribute Table: true 
Edit Fields Info:  null 
Ownership Based AccessControl For Rasters:  null 
Child Resources:
  
Info
  Raster Attribute Table
  Histograms
  Key Properties
  Legend
  MultiDimensionalInfo
  rasterFunctionInfos
Supported Operations:
  
Export Image
  Identify
  Measure
  Compute Histograms
  Compute Statistics Histograms
  Get Samples
  Compute Class Statistics
  Query Boundary