View In:
  ArcGIS JavaScript
  ArcGIS Online Map Viewer
  ArcGIS Earth
  ArcMap
  ArcGIS Explorer
View Footprint In:
  ArcGIS Online Map Viewer
Service Description:  Jackson County Parcel Data with MLS Listings 
Map Name:  Layers 
Legend
All Layers and Tables
Dynamic Legend
Dynamic All Layers
Layers: 
Description:  
Copyright Text:   
Spatial Reference: 
102100
 (3857)
Single Fused Map Cache:  true
Tile Info: 
- Height: 256
- Width: 256
- DPI: 96
- 
Levels of Detail:  24
- 
Level ID: 0
[ Start Tile, End Tile ]
- Resolution: 156543.03392800014
- Scale: 5.91657527591555E8
- 
Level ID: 1
[ Start Tile, End Tile ]
- Resolution: 78271.51696399994
- Scale: 2.95828763795777E8
- 
Level ID: 2
[ Start Tile, End Tile ]
- Resolution: 39135.75848200009
- Scale: 1.47914381897889E8
- 
Level ID: 3
[ Start Tile, End Tile ]
- Resolution: 19567.87924099992
- Scale: 7.3957190948944E7
- 
Level ID: 4
[ Start Tile, End Tile ]
- Resolution: 9783.93962049996
- Scale: 3.6978595474472E7
- 
Level ID: 5
[ Start Tile, End Tile ]
- Resolution: 4891.96981024998
- Scale: 1.8489297737236E7
- Format: PNG
- Compression Quality: 0.0
- Origin: X:  -2.0037508342787E7 
 Y:  2.0037508342787E7
 
- Spatial Reference: 102100
 (3857)
 
Initial Extent:
XMin: -9373683.357370546
YMin: 5198209.173199925
XMax: -9370382.673685847
YMax: 5200018.265359775
Spatial Reference: 102100
 
Full Extent:
XMin: -9430839.3685
YMin: 5171523.437200002
XMax: -9365388.8449
YMax: 5224826.040299997
Spatial Reference: 102100
 
Units: esriMeters 
Supported Image Format Types:  PNG32,PNG24,PNG,JPG,DIB,TIFF,EMF,PS,PDF,GIF,SVG,SVGZ,BMP
Document Info: 
Title: 
Author: 
Comments: Jackson County Parcel Data with MLS Listings
Subject: Jackson County Parcel Data with MLS Listings
Category: 
Keywords: parcels,mls
AntialiasingMode: None
TextAntialiasingMode: Force
Supports Dynamic Layers: true
MaxRecordCount:  1000
MaxImageHeight:  4096
MaxImageWidth:  4096
Supported Query Formats:  JSON, AMF, geoJSON
Min Scale:  5.91657527591555E8
Max Scale:  18055.954822
Supports Datum Transformation:  true
Child Resources:
  
Info
  Dynamic Layer
 
Supported Operations:
  
Export Map
  Identify
  QueryDomains
  Find
  Return Updates